BEGIN:VCALENDAR
VERSION:2.0
PRODID:-//eventon.com NONSGML v1.0//EN
CALSCALE:GREGORIAN
METHOD:PUBLISH
BEGIN:VEVENT
UID:69e7886be33bb
DTSTAMP:20260421T142339Z
DTSTART:20250917
DTEND:20250918
LOCATION:
SUMMARY:NoVacancy 2025
DESCRIPTION:Evolve your accommodation business and property with products\,
   trends and knowledge. NoVacancy\,  held at the world-class ICC Sydney on 
 17 & 18 September 2025\,  is the biggest and most important annual event fo
 r professionals in the hotel and accommodation industry. Access big develop
 ments in new brands and product launches\,  essential[..]\nhttps://inavista
 .com/events/novacancy-2025/
URL:https://inavista.com/events/novacancy-2025/
END:VEVENT
END:VCALENDAR